Package: sscu Version: 2.41.0 Command: /Library/Frameworks/R.framework/Resources/bin/R CMD INSTALL sscu StartedAt: 2025-11-13 15:08:00 -0500 (Thu, 13 Nov 2025) EndedAt: 2025-11-13 15:08:04 -0500 (Thu, 13 Nov 2025) EllapsedTime: 4.4 seconds RetCode: 0 Status: OK