Package: sscu Version: 2.41.0 Command: /Library/Frameworks/R.framework/Resources/bin/R CMD build --keep-empty-dirs --no-resave-data sscu StartedAt: 2025-11-12 17:19:03 -0500 (Wed, 12 Nov 2025) EndedAt: 2025-11-12 17:19:11 -0500 (Wed, 12 Nov 2025) EllapsedTime: 8.1 seconds RetCode: 0 Status: OK PackageFile: sscu_2.41.0.tar.gz PackageFileSize: 1.287 MiB