Package: sscu Version: 2.41.0 Command: rm -rf sscu.buildbin-libdir && mkdir sscu.buildbin-libdir && /Users/biocbuild/BBS/utils/build-universal.sh sscu_2.41.0.tar.gz /Library/Frameworks/R.framework/Resources/bin/R sscu.buildbin-libdir StartedAt: 2025-11-13 23:58:31 -0500 (Thu, 13 Nov 2025) EndedAt: 2025-11-13 23:58:37 -0500 (Thu, 13 Nov 2025) EllapsedTime: 6.2 seconds RetCode: 0 Status: OK PackageFile: sscu_2.41.0.tgz PackageFileSize: 1.373 MiB