Package: sscu Version: 2.41.0 Maintainer: Yu Sun MaintainerEmail: sunyu1357 at gmail.com git_url: https://git.bioconductor.org/packages/sscu git_branch: devel git_last_commit: 2db5d27 git_last_commit_date: 2025-10-29 10:31:07 -0500 (Wed, 29 Oct 2025)