Package: ssPATHS Version: 1.25.0 Command: /home/biocbuild/bbs-3.23-bioc/R/bin/R CMD build --keep-empty-dirs --no-resave-data ssPATHS StartedAt: 2025-11-13 20:21:11 -0500 (Thu, 13 Nov 2025) EndedAt: 2025-11-13 20:21:48 -0500 (Thu, 13 Nov 2025) EllapsedTime: 37.1 seconds RetCode: 0 Status: OK PackageFile: ssPATHS_1.25.0.tar.gz PackageFileSize: 3.672 MiB