Package: ssPATHS Version: 1.25.0 Command: /Library/Frameworks/R.framework/Resources/bin/R CMD build --keep-empty-dirs --no-resave-data ssPATHS StartedAt: 2025-11-12 17:19:17 -0500 (Wed, 12 Nov 2025) EndedAt: 2025-11-12 17:19:36 -0500 (Wed, 12 Nov 2025) EllapsedTime: 19.2 seconds RetCode: 0 Status: OK PackageFile: ssPATHS_1.25.0.tar.gz PackageFileSize: 3.672 MiB