Package: ssPATHS Version: 1.25.0 Command: rm -rf ssPATHS.buildbin-libdir && mkdir ssPATHS.buildbin-libdir && /Users/biocbuild/BBS/utils/build-universal.sh ssPATHS_1.25.0.tar.gz /Library/Frameworks/R.framework/Resources/bin/R ssPATHS.buildbin-libdir StartedAt: 2025-11-12 21:11:54 -0500 (Wed, 12 Nov 2025) EndedAt: 2025-11-12 21:12:07 -0500 (Wed, 12 Nov 2025) EllapsedTime: 13.3 seconds RetCode: 0 Status: OK PackageFile: ssPATHS_1.25.0.tgz PackageFileSize: 3.705 MiB