Package: ssPATHS Version: 1.25.0 Maintainer: Natalie R. Davidson MaintainerEmail: natalie.davidson at inf.ethz.ch git_url: https://git.bioconductor.org/packages/ssPATHS git_branch: devel git_last_commit: 279a5e8 git_last_commit_date: 2025-10-29 10:54:57 -0500 (Wed, 29 Oct 2025)