Package: splineTimeR Version: 1.39.0 Command: /home/biocbuild/bbs-3.23-bioc/R/bin/R CMD build --keep-empty-dirs --no-resave-data splineTimeR StartedAt: 2025-11-14 20:17:45 -0500 (Fri, 14 Nov 2025) EndedAt: 2025-11-14 20:18:25 -0500 (Fri, 14 Nov 2025) EllapsedTime: 40.0 seconds RetCode: 0 Status: OK PackageFile: splineTimeR_1.39.0.tar.gz PackageFileSize: 1.228 MiB