Package: splineTimeR Version: 1.39.0 Command: /Library/Frameworks/R.framework/Resources/bin/R CMD INSTALL splineTimeR StartedAt: 2025-11-14 15:10:18 -0500 (Fri, 14 Nov 2025) EndedAt: 2025-11-14 15:10:24 -0500 (Fri, 14 Nov 2025) EllapsedTime: 5.9 seconds RetCode: 0 Status: OK