Package: splineTimeR Version: 1.39.0 Command: /Library/Frameworks/R.framework/Resources/bin/R CMD build --keep-empty-dirs --no-resave-data splineTimeR StartedAt: 2025-11-14 17:48:01 -0500 (Fri, 14 Nov 2025) EndedAt: 2025-11-14 17:48:22 -0500 (Fri, 14 Nov 2025) EllapsedTime: 21.2 seconds RetCode: 0 Status: OK PackageFile: splineTimeR_1.39.0.tar.gz PackageFileSize: 1.228 MiB