Package: spkTools Version: 1.67.0 Command: /home/biocbuild/bbs-3.23-bioc/R/bin/R CMD INSTALL spkTools StartedAt: 2025-11-11 15:17:54 -0500 (Tue, 11 Nov 2025) EndedAt: 2025-11-11 15:18:00 -0500 (Tue, 11 Nov 2025) EllapsedTime: 5.2 seconds RetCode: 0 Status: OK