Package: spkTools Version: 1.67.0 Command: rm -rf spkTools.buildbin-libdir && mkdir spkTools.buildbin-libdir && /Users/biocbuild/BBS/utils/build-universal.sh spkTools_1.67.0.tar.gz /Library/Frameworks/R.framework/Resources/bin/R spkTools.buildbin-libdir StartedAt: 2025-11-12 21:11:43 -0500 (Wed, 12 Nov 2025) EndedAt: 2025-11-12 21:11:47 -0500 (Wed, 12 Nov 2025) EllapsedTime: 3.1 seconds RetCode: 0 Status: OK PackageFile: spkTools_1.67.0.tgz PackageFileSize: 841 KiB