Package: speckle Version: 1.11.0 Command: /home/biocbuild/bbs-3.23-bioc/R/bin/R CMD INSTALL speckle StartedAt: 2025-11-16 15:24:06 -0500 (Sun, 16 Nov 2025) EndedAt: 2025-11-16 15:24:42 -0500 (Sun, 16 Nov 2025) EllapsedTime: 36.7 seconds RetCode: 0 Status: OK