Package: specL Version: 1.45.0 Command: /home/biocbuild/bbs-3.23-bioc/R/bin/R CMD INSTALL specL StartedAt: 2025-11-14 15:07:09 -0500 (Fri, 14 Nov 2025) EndedAt: 2025-11-14 15:07:45 -0500 (Fri, 14 Nov 2025) EllapsedTime: 36.0 seconds RetCode: 0 Status: OK