Package: specL Version: 1.45.0 Command: /home/biocbuild/bbs-3.23-bioc/R/bin/R CMD build --keep-empty-dirs --no-resave-data specL StartedAt: 2025-11-14 20:15:00 -0500 (Fri, 14 Nov 2025) EndedAt: 2025-11-14 20:15:21 -0500 (Fri, 14 Nov 2025) EllapsedTime: 21.0 seconds RetCode: 0 Status: OK PackageFile: specL_1.45.0.tar.gz PackageFileSize: 2.082 MiB