Package: specL Version: 1.45.0 Maintainer: Christian Panse MaintainerEmail: cp at fgcz.ethz.ch git_url: https://git.bioconductor.org/packages/specL git_branch: devel git_last_commit: fcfdc28 git_last_commit_date: 2025-10-29 10:22:54 -0500 (Wed, 29 Oct 2025)