Package: spatialSimGP Version: 1.5.0 Command: /home/biocbuild/bbs-3.23-bioc/R/bin/R CMD INSTALL spatialSimGP StartedAt: 2025-11-14 15:34:20 -0500 (Fri, 14 Nov 2025) EndedAt: 2025-11-14 15:34:42 -0500 (Fri, 14 Nov 2025) EllapsedTime: 22.5 seconds RetCode: 0 Status: OK