Package: spatialSimGP Version: 1.5.0 Command: /Library/Frameworks/R.framework/Resources/bin/R CMD check --install=check:spatialSimGP.install-out.txt --library=/Library/Frameworks/R.framework/Resources/library --no-vignettes --timings spatialSimGP_1.5.0.tar.gz StartedAt: 2025-11-14 22:40:41 -0500 (Fri, 14 Nov 2025) EndedAt: 2025-11-14 22:42:10 -0500 (Fri, 14 Nov 2025) EllapsedTime: 89.1 seconds RetCode: 0 Status: OK CheckDir: spatialSimGP.Rcheck Warnings: 0