Package: spatialSimGP Version: 1.5.0 Command: rm -rf spatialSimGP.buildbin-libdir && mkdir spatialSimGP.buildbin-libdir && /Users/biocbuild/BBS/utils/build-universal.sh spatialSimGP_1.5.0.tar.gz /Library/Frameworks/R.framework/Resources/bin/R spatialSimGP.buildbin-libdir StartedAt: 2025-11-12 21:11:36 -0500 (Wed, 12 Nov 2025) EndedAt: 2025-11-12 21:11:48 -0500 (Wed, 12 Nov 2025) EllapsedTime: 11.3 seconds RetCode: 0 Status: OK PackageFile: spatialSimGP_1.5.0.tgz PackageFileSize: 744.7 KiB