Package: spatialHeatmap Version: 2.17.0 Command: /home/biocbuild/bbs-3.23-bioc/R/bin/R CMD INSTALL spatialHeatmap StartedAt: 2025-11-11 15:36:54 -0500 (Tue, 11 Nov 2025) EndedAt: 2025-11-11 15:37:35 -0500 (Tue, 11 Nov 2025) EllapsedTime: 41.7 seconds RetCode: 0 Status: OK