Package: spatialHeatmap Version: 2.17.0 Command: /Library/Frameworks/R.framework/Resources/bin/R CMD INSTALL spatialHeatmap StartedAt: 2025-11-13 15:19:19 -0500 (Thu, 13 Nov 2025) EndedAt: 2025-11-13 15:19:35 -0500 (Thu, 13 Nov 2025) EllapsedTime: 15.3 seconds RetCode: 0 Status: OK