Package: spatialHeatmap Version: 2.17.0 Command: /Library/Frameworks/R.framework/Resources/bin/R CMD build --keep-empty-dirs --no-resave-data spatialHeatmap StartedAt: 2025-11-13 17:48:41 -0500 (Thu, 13 Nov 2025) EndedAt: 2025-11-13 17:50:39 -0500 (Thu, 13 Nov 2025) EllapsedTime: 117.4 seconds RetCode: 1 Status: ERROR PackageFile: None PackageFileSize: NA