Package: spatialFDA Version: 1.3.1 Command: /home/biocbuild/bbs-3.23-bioc/R/bin/R CMD INSTALL spatialFDA StartedAt: 2025-11-13 15:27:30 -0500 (Thu, 13 Nov 2025) EndedAt: 2025-11-13 15:28:04 -0500 (Thu, 13 Nov 2025) EllapsedTime: 34.6 seconds RetCode: 0 Status: OK