Package: spatialFDA Version: 1.3.1 Command: /home/biocbuild/bbs-3.23-bioc/R/bin/R CMD build --keep-empty-dirs --no-resave-data spatialFDA StartedAt: 2025-11-13 20:13:42 -0500 (Thu, 13 Nov 2025) EndedAt: 2025-11-13 20:20:10 -0500 (Thu, 13 Nov 2025) EllapsedTime: 388.3 seconds RetCode: 0 Status: OK PackageFile: spatialFDA_1.3.1.tar.gz PackageFileSize: 6.146 MiB