Package: spatialFDA Version: 1.3.1 Command: /Library/Frameworks/R.framework/Resources/bin/R CMD INSTALL spatialFDA StartedAt: 2025-11-13 15:14:37 -0500 (Thu, 13 Nov 2025) EndedAt: 2025-11-13 15:14:51 -0500 (Thu, 13 Nov 2025) EllapsedTime: 13.7 seconds RetCode: 0 Status: OK