Package: spatialFDA Version: 1.3.1 Command: /Library/Frameworks/R.framework/Resources/bin/R CMD check --install=check:spatialFDA.install-out.txt --library=/Library/Frameworks/R.framework/Resources/library --no-vignettes --timings spatialFDA_1.3.1.tar.gz StartedAt: 2025-11-14 22:39:56 -0500 (Fri, 14 Nov 2025) EndedAt: 2025-11-14 22:45:45 -0500 (Fri, 14 Nov 2025) EllapsedTime: 349.2 seconds RetCode: 1 Status: ERROR CheckDir: spatialFDA.Rcheck Warnings: NA