Package: spatialFDA Version: 1.3.1 Command: /Library/Frameworks/R.framework/Resources/bin/R CMD build --keep-empty-dirs --no-resave-data spatialFDA StartedAt: 2025-11-12 17:16:36 -0500 (Wed, 12 Nov 2025) EndedAt: 2025-11-12 17:19:35 -0500 (Wed, 12 Nov 2025) EllapsedTime: 179.2 seconds RetCode: 0 Status: OK PackageFile: spatialFDA_1.3.1.tar.gz PackageFileSize: 6.871 MiB