Package: spatialFDA Version: 1.3.1 Command: rm -rf spatialFDA.buildbin-libdir && mkdir spatialFDA.buildbin-libdir && /Users/biocbuild/BBS/utils/build-universal.sh spatialFDA_1.3.1.tar.gz /Library/Frameworks/R.framework/Resources/bin/R spatialFDA.buildbin-libdir StartedAt: 2025-11-13 23:57:59 -0500 (Thu, 13 Nov 2025) EndedAt: 2025-11-13 23:58:17 -0500 (Thu, 13 Nov 2025) EllapsedTime: 17.5 seconds RetCode: 0 Status: OK PackageFile: spatialFDA_1.3.1.tgz PackageFileSize: 6.955 MiB