Package: spatialDE Version: 1.17.0 Command: /home/biocbuild/bbs-3.23-bioc/R/bin/R CMD INSTALL spatialDE StartedAt: 2025-11-13 16:00:47 -0500 (Thu, 13 Nov 2025) EndedAt: 2025-11-13 16:01:07 -0500 (Thu, 13 Nov 2025) EllapsedTime: 19.5 seconds RetCode: 0 Status: OK