Package: spatialDE Version: 1.17.0 Command: /home/biocbuild/bbs-3.23-bioc/R/bin/R CMD build --keep-empty-dirs --no-resave-data spatialDE StartedAt: 2025-11-13 20:12:54 -0500 (Thu, 13 Nov 2025) EndedAt: 2025-11-13 20:14:39 -0500 (Thu, 13 Nov 2025) EllapsedTime: 104.1 seconds RetCode: 0 Status: OK PackageFile: spatialDE_1.17.0.tar.gz PackageFileSize: 3.711 MiB