Package: spatialDE Version: 1.17.0 Command: /Library/Frameworks/R.framework/Resources/bin/R CMD INSTALL spatialDE StartedAt: 2025-11-13 15:34:32 -0500 (Thu, 13 Nov 2025) EndedAt: 2025-11-13 15:34:40 -0500 (Thu, 13 Nov 2025) EllapsedTime: 8.3 seconds RetCode: 0 Status: OK