Package: spatialDE Version: 1.17.0 Command: /Library/Frameworks/R.framework/Resources/bin/R CMD build --keep-empty-dirs --no-resave-data spatialDE StartedAt: 2025-11-13 17:47:56 -0500 (Thu, 13 Nov 2025) EndedAt: 2025-11-13 17:50:03 -0500 (Thu, 13 Nov 2025) EllapsedTime: 127.5 seconds RetCode: 1 Status: ERROR PackageFile: None PackageFileSize: NA