Package: spatialDE Version: 1.17.0 Maintainer: Gabriele Sales MaintainerEmail: gabriele.sales at unipd.it git_url: https://git.bioconductor.org/packages/spatialDE git_branch: devel git_last_commit: 8ac058d git_last_commit_date: 2025-10-29 11:11:31 -0500 (Wed, 29 Oct 2025)