Package: sparsenetgls Version: 1.29.0 Command: /Library/Frameworks/R.framework/Resources/bin/R CMD INSTALL sparsenetgls StartedAt: 2025-11-16 15:04:01 -0500 (Sun, 16 Nov 2025) EndedAt: 2025-11-16 15:04:15 -0500 (Sun, 16 Nov 2025) EllapsedTime: 14.4 seconds RetCode: 0 Status: OK