Package: sparsenetgls Version: 1.29.0 Command: /Library/Frameworks/R.framework/Resources/bin/R CMD build --keep-empty-dirs --no-resave-data sparsenetgls StartedAt: 2025-11-16 17:45:33 -0500 (Sun, 16 Nov 2025) EndedAt: 2025-11-16 17:46:14 -0500 (Sun, 16 Nov 2025) EllapsedTime: 40.5 seconds RetCode: 0 Status: OK PackageFile: sparsenetgls_1.29.0.tar.gz PackageFileSize: 637.3 KiB