Package: sparsenetgls Version: 1.29.0 Command: rm -rf sparsenetgls.buildbin-libdir && mkdir sparsenetgls.buildbin-libdir && /Users/biocbuild/BBS/utils/build-universal.sh sparsenetgls_1.29.0.tar.gz /Library/Frameworks/R.framework/Resources/bin/R sparsenetgls.buildbin-libdir StartedAt: 2025-11-16 23:54:12 -0500 (Sun, 16 Nov 2025) EndedAt: 2025-11-16 23:54:16 -0500 (Sun, 16 Nov 2025) EllapsedTime: 4.1 seconds RetCode: 0 Status: OK PackageFile: sparsenetgls_1.29.0.tgz PackageFileSize: 681.9 KiB