Package: sparrow Version: 1.17.0 Command: /home/biocbuild/bbs-3.23-bioc/R/bin/R CMD INSTALL sparrow StartedAt: 2025-11-14 15:30:17 -0500 (Fri, 14 Nov 2025) EndedAt: 2025-11-14 15:30:49 -0500 (Fri, 14 Nov 2025) EllapsedTime: 31.7 seconds RetCode: 0 Status: OK