Package: sparrow Version: 1.17.0 Command: /home/biocbuild/bbs-3.23-bioc/R/bin/R CMD build --keep-empty-dirs --no-resave-data sparrow StartedAt: 2025-11-13 20:11:35 -0500 (Thu, 13 Nov 2025) EndedAt: 2025-11-13 20:13:42 -0500 (Thu, 13 Nov 2025) EllapsedTime: 126.1 seconds RetCode: 0 Status: OK PackageFile: sparrow_1.17.0.tar.gz PackageFileSize: 4.135 MiB