Package: sparrow Version: 1.17.0 Command: /Library/Frameworks/R.framework/Resources/bin/R CMD INSTALL sparrow StartedAt: 2025-11-14 15:10:11 -0500 (Fri, 14 Nov 2025) EndedAt: 2025-11-14 15:10:23 -0500 (Fri, 14 Nov 2025) EllapsedTime: 12.5 seconds RetCode: 0 Status: OK