Package: sparrow Version: 1.17.0 Command: /Library/Frameworks/R.framework/Resources/bin/R CMD build --keep-empty-dirs --no-resave-data sparrow StartedAt: 2025-11-13 17:47:28 -0500 (Thu, 13 Nov 2025) EndedAt: 2025-11-13 17:48:28 -0500 (Thu, 13 Nov 2025) EllapsedTime: 59.7 seconds RetCode: 0 Status: OK PackageFile: sparrow_1.17.0.tar.gz PackageFileSize: 4.134 MiB