Package: sparrow Version: 1.17.0 Command: rm -rf sparrow.buildbin-libdir && mkdir sparrow.buildbin-libdir && /Users/biocbuild/BBS/utils/build-universal.sh sparrow_1.17.0.tar.gz /Library/Frameworks/R.framework/Resources/bin/R sparrow.buildbin-libdir StartedAt: 2025-11-14 23:53:01 -0500 (Fri, 14 Nov 2025) EndedAt: 2025-11-14 23:53:18 -0500 (Fri, 14 Nov 2025) EllapsedTime: 16.4 seconds RetCode: 0 Status: OK PackageFile: sparrow_1.17.0.tgz PackageFileSize: 4.568 MiB