Package: spacexr Version: 1.3.0 Command: /home/biocbuild/bbs-3.23-bioc/R/bin/R CMD INSTALL spacexr StartedAt: 2025-11-14 15:21:09 -0500 (Fri, 14 Nov 2025) EndedAt: 2025-11-14 15:21:39 -0500 (Fri, 14 Nov 2025) EllapsedTime: 29.5 seconds RetCode: 0 Status: OK