Package: spacexr Version: 1.3.0 Command: /Library/Frameworks/R.framework/Resources/bin/R CMD build --keep-empty-dirs --no-resave-data spacexr StartedAt: 2025-11-12 17:15:39 -0500 (Wed, 12 Nov 2025) EndedAt: 2025-11-12 17:16:12 -0500 (Wed, 12 Nov 2025) EllapsedTime: 32.4 seconds RetCode: 0 Status: OK PackageFile: spacexr_1.3.0.tar.gz PackageFileSize: 482.9 KiB