Package: spacexr Version: 1.3.0 Command: rm -rf spacexr.buildbin-libdir && mkdir spacexr.buildbin-libdir && /Users/biocbuild/BBS/utils/build-universal.sh spacexr_1.3.0.tar.gz /Library/Frameworks/R.framework/Resources/bin/R spacexr.buildbin-libdir StartedAt: 2025-11-12 21:11:22 -0500 (Wed, 12 Nov 2025) EndedAt: 2025-11-12 21:11:36 -0500 (Wed, 12 Nov 2025) EllapsedTime: 14.3 seconds RetCode: 0 Status: OK PackageFile: spacexr_1.3.0.tgz PackageFileSize: 1002 KiB