Package: spacexr Version: 1.3.0 Maintainer: Gabriel Grajeda MaintainerEmail: gabriel.grajeda at gmail.com git_url: https://git.bioconductor.org/packages/spacexr git_branch: devel git_last_commit: ea2a493 git_last_commit_date: 2025-10-29 11:35:40 -0500 (Wed, 29 Oct 2025)