Package: spaSim Version: 1.13.0 Command: /Library/Frameworks/R.framework/Resources/bin/R CMD INSTALL spaSim StartedAt: 2025-11-12 15:35:02 -0500 (Wed, 12 Nov 2025) EndedAt: 2025-11-12 15:35:12 -0500 (Wed, 12 Nov 2025) EllapsedTime: 10.4 seconds RetCode: 0 Status: OK