Package: spaSim Version: 1.13.0 Maintainer: Yuzhou Feng MaintainerEmail: yuzhou.feng at petermac.org git_url: https://git.bioconductor.org/packages/spaSim git_branch: devel git_last_commit: 3d330bf git_last_commit_date: 2025-10-29 11:17:31 -0500 (Wed, 29 Oct 2025)