Package: soGGi Version: 1.43.0 Command: /home/biocbuild/bbs-3.23-bioc/R/bin/R CMD INSTALL soGGi StartedAt: 2025-11-14 15:57:14 -0500 (Fri, 14 Nov 2025) EndedAt: 2025-11-14 15:57:58 -0500 (Fri, 14 Nov 2025) EllapsedTime: 43.7 seconds RetCode: 0 Status: OK