Package: soGGi Version: 1.43.0 Command: /Library/Frameworks/R.framework/Resources/bin/R CMD build --keep-empty-dirs --no-resave-data soGGi StartedAt: 2025-11-13 17:46:03 -0500 (Thu, 13 Nov 2025) EndedAt: 2025-11-13 17:46:42 -0500 (Thu, 13 Nov 2025) EllapsedTime: 39.4 seconds RetCode: 0 Status: OK PackageFile: soGGi_1.43.0.tar.gz PackageFileSize: 3.319 MiB